BEGIN:VCALENDAR
VERSION:2.0
PRODID:-//Sabre//Sabre VObject 4.5.8//EN
CALSCALE:GREGORIAN
BEGIN:VEVENT
UID:sabre-vobject-63fddbf6-3b26-43dc-9b10-5710ea2a863d
DTSTAMP:20260420T091245Z
SUMMARY:Interzoo 2026
DESCRIPTION:Nürnberg\n12.-15. Mai 2026
LOCATION:Nürnberg
DTSTART:20260512T120000Z
DTEND:20260515T120000Z
END:VEVENT
END:VCALENDAR
