BEGIN:VCALENDAR
VERSION:2.0
PRODID:-//Sabre//Sabre VObject 4.5.8//EN
CALSCALE:GREGORIAN
BEGIN:VEVENT
UID:sabre-vobject-1c779fd1-a0ba-44e5-b183-4f1140571ed8
DTSTAMP:20260420T091245Z
SUMMARY:PLMA Amsterdam 2026
DESCRIPTION:Amsterdam\n19.-20. Mai 2026
LOCATION:Amsterdam
DTSTART:20260519T120000Z
DTEND:20260520T120000Z
END:VEVENT
END:VCALENDAR
