BEGIN:VCALENDAR
VERSION:2.0
PRODID:-//Sabre//Sabre VObject 4.5.8//EN
CALSCALE:GREGORIAN
BEGIN:VEVENT
UID:sabre-vobject-8c7f5c48-dbab-48c5-9087-06585e7bdfd8
DTSTAMP:20260420T091229Z
SUMMARY:Deutsche Asphalttage 2026
DESCRIPTION:Berchtesgaden\n25.-27. Februar 2026
LOCATION:Berchtesgaden
DTSTART:20260225T120000Z
DTEND:20260227T120000Z
END:VEVENT
END:VCALENDAR
