BEGIN:VCALENDAR
VERSION:2.0
PRODID:-//Sabre//Sabre VObject 4.5.8//EN
CALSCALE:GREGORIAN
BEGIN:VEVENT
UID:sabre-vobject-32e5eba3-f4af-4c24-acd1-b05681e9f7de
DTSTAMP:20260420T091228Z
SUMMARY:Paris Packaging Week 2026
DESCRIPTION:Paris\n05.-06. Februar 2026
LOCATION:Paris
DTSTART:20260205T120000Z
DTEND:20260206T120000Z
END:VEVENT
END:VCALENDAR
