BEGIN:VCALENDAR
VERSION:2.0
PRODID:-//Sabre//Sabre VObject 4.5.8//EN
CALSCALE:GREGORIAN
BEGIN:VEVENT
UID:sabre-vobject-9c72842c-7270-4968-abb2-0ab18648b3d6
DTSTAMP:20260420T091149Z
SUMMARY:Asphaltseminar 2026
DESCRIPTION:Willingen\n24.-26. März 2026
LOCATION:Willingen
DTSTART:20260324T120000Z
DTEND:20260326T120000Z
END:VEVENT
END:VCALENDAR
