BEGIN:VCALENDAR
VERSION:2.0
PRODID:-//Sabre//Sabre VObject 4.5.8//EN
CALSCALE:GREGORIAN
BEGIN:VEVENT
UID:sabre-vobject-70864cd2-71d8-4fb0-9a60-1cc8ec95cb76
DTSTAMP:20260420T091149Z
SUMMARY:Biofach 2026
DESCRIPTION:Nürnberg\n10.-13. Februar 2026
LOCATION:Nürnberg
DTSTART:20260210T120000Z
DTEND:20260213T120000Z
END:VEVENT
END:VCALENDAR
